Workbook

Sheet 入力用
A1: 大会名 | B1: 日付 | C1: 場所 | D1: 種目 | E1: 申込締切日
A2: 第41回さつき杯 | B2: 46166 | C2: 池田市総合スポーツセンター | D2: 団体戦男子、団体戦女子 | E2: =B2-15 -> 46151
A3: 池田市体育連盟70周年記念 第74回市民総体 | B3: 46180 | C3: 池田市総合スポーツセンター | E3: =B3-15 -> 46165
A4: 第8回カデット池田オープン | B4: 46257 | C4: 池田市総合スポーツセンター | E4: =B4-15 -> 46242
A5: 第29回なみはやメモリアル兼第51回市長杯 | B5: 46285 | C5: 池田市総合スポーツセンター | E5: =B5-15 -> 46270
A6: 第35回エイジロング シングルス | B6: 46320 | C6: 池田市総合スポーツセンター | E6: =B6-15 -> 46305
A7: ヤサカ杯 第9回池田マスターズ | B7: 46344 | C7: 池田市総合スポーツセンター | E7: =B7-15 -> 46329
A8: 第27回ミックスダブルス | B8: 46404 | C8: 池田市総合スポーツセンター | D8: ミックスダブルスによる団体戦 | E8: =B8-15 -> 46389
A9: 第17回池田二人団体 | B9: 46439 | C9: 池田市総合スポーツセンター | D9: 一般男子団体戦、一般女子団体戦（男女とも1チームは2名で構成） | E9: =B9-15 -> 46424
A10: 卓球協会70周年記念 | B10: 45387 | C10: 池田市五月山体育館 | E10: =B10-15 -> 45372
A11: 日本ペイントマレッツ卓球講習会
A16: 場所 | B16: 住所 | C16: 電話
A17: 池田市総合スポーツセンター | B17: 〒563－0038 池田市荘園２丁目７－３０ （駐車場は有料です） | C17: ℡ 072－761－5137 | D17: ＊体育館は８時半まで開場しません。 | E17: 近隣から苦情がありますので早くから並ばないでください。
A18: 池田市五月山体育館 | B18: 〒563－0051 池田市綾羽２丁目７－１ （駐車場は有料です） | C18: ℡ 072－754－3336 | D18: ＊体育館は８時半まで開場しません。
A21: 申込先 | B21: 〒５６３－００３１ 池田市天神１丁目１０－２６－Ｃ号 | C21: 井尻 アツ子方 池田市卓球協会宛て
A23: ＊駐車場に余裕がありませんので、できるだけ電車・バス等をご利用ください。
A24: ＊情勢によっては中止、内容の変更をいたします。
A25: ＊お願い：靴箱を利用せず、シューズ袋等に入れて、各自保管してください。

Sheet さつき杯要項
A1: =入力用!A2 -> 第41回さつき杯
A3: 1. | B3: 日時 | C3: =VLOOKUP($A$1,入力用!$A$2:$C$13,2,0) -> 46166 | E3: ９時 ～ 開会式
A5: 2. | B5: 場所 | C5: =VLOOKUP($A$1,入力用!$A$2:$C$13,3,0) -> 池田市総合スポーツセンター
C6: =VLOOKUP(C5,入力用!$A$17:$C$21,2,0) -> 〒563－0038 池田市荘園２丁目７－３０ （駐車場は有料です）
D7: =VLOOKUP(C5,入力用!$A$17:$C$21,3,0) -> ℡ 072－761－5137
C8: =VLOOKUP($C$5,入力用!A:E,4,0) -> ＊体育館は８時半まで開場しません。
C9: =VLOOKUP($C$5,入力用!A:E,5,0) -> 近隣から苦情がありますので早くから並ばないでください。
A11: 3. | B11: 参加資格 | C11: 池田市卓球協会加盟者に限る。
C12: (当日 加入可 加盟金 １名３００円）
A14: 4. | B14: 種目 | C14: 男子団体戦、女子団体戦
A16: 5. | B16: 試合方法 | C16: ３名の選手でチームを編成し、2シングルス1ダブルスの団体戦を行います。
C17: 1番にﾀﾞﾌﾞﾙｽ、2番ｼﾝｸﾞﾙｽまでに3名が出場し、3番ｼﾝｸﾞﾙｽにはﾀﾞﾌﾞﾙｽの
C18: どちらかが出場するものとします。
C19: ＊ 原則として、予選リーグを行い、順位別トーナメントを行います。
A21: 6. | B21: 表彰 | C21: 各種目とも１～３位まで賞品贈呈 （参加数により変更有り）
A23: 7. | B23: 参加料 | C23: 大会参加料及び協会加盟金が必要(当日会場でお支払いください)
C24: ＊参加料 →１チーム ３，０００円
C25: ＊加盟金 → １人につき３００円
A27: 8. | B27: 申込締切日 | C27: =VLOOKUP($A$1,入力用!$A$2:$E$13,5,0) -> 46151
A29: 9. | B29: 申込先 | C29: =VLOOKUP($B$29,入力用!A:D,2,0) -> 〒５６３－００３１ 池田市天神１丁目１０－２６－Ｃ号
C30: =VLOOKUP($B$29,入力用!A:D,3,0) -> 井尻 アツ子方 池田市卓球協会宛て
C32: 総合スポーツセンターでの受付は行いませんので、
C33: 必ず郵送で記入漏れなく上記申込先へお申込ください。
A35: 10. | B35: 主催 | C35: 池田市卓球協会
A37: 11. | B37: その他 | C37: ＊当日は、必ずゼッケンを着用してください。
C38: ＊本大会についてのお問い合わせは、
C39: ０９０－２２８４－９２６４（藤本）まで
C40: ＊本大会ではニッタクボールを使用します。
C41: ＊接着剤は日本卓球協会で承認されたものを使用してください。
C42: ＊ 賞品の数は1チーム３名分といたします。
C43: （参加選手の登録は１チームあたり３名とします）
B45: =入力用!A23 -> ＊駐車場に余裕がありませんので、できるだけ電車・バス等をご利用ください。
B46: =入力用!A24 -> ＊情勢によっては中止、内容の変更をいたします。
B47: =入力用!A25 -> ＊お願い：靴箱を利用せず、シューズ袋等に入れて、各自保管してください。

Sheet さつき杯申込書
B1: =入力用!A2 -> 第41回さつき杯
C3: 上記の大会に下記のとおり申し込みます。
C4: 本大会において生じた事故については、すべて個人の責任において処理し、主催者側には
C5: 一切迷惑をかけません。
C6: 団体名(チーム名）
C7: 責 任 者 | D7: 〒
D8: 住 所
D9: 氏 名
D10: ＴＥＬ
B12: (男子 団体戦）
C13: Ａ チーム | E13: Ｂ チーム | G13: Ｃ チーム | I13: D チーム
B14: 1 | D14: 1 | F14: 1 | H14: 1
B15: 2 | D15: 2 | F15: 2 | H15: 2
B16: 3 | D16: 3 | F16: 3 | H16: 3
C17: 必ず上位からフルネームで記入すること！！
A20: =B1 -> 第41回さつき杯
C22: 上記の大会に下記のとおり申し込みます。
C23: 本大会において生じた事故については、すべて個人の責任において処理し、主催者側には
C24: 一切迷惑をかけません。
C25: 団体名(チーム名）
C26: 責 任 者 | D26: 〒
D27: 住 所
D28: 氏 名
D29: ＴＥＬ
B31: (女子 団体戦）
C32: Ａ チーム | E32: Ｂ チーム | G32: Ｃ チーム | I32: D チーム
B33: 1 | D33: 1 | F33: 1 | H33: 1
B34: 2 | D34: 2 | F34: 2 | H34: 2
B35: 3 | D35: 3 | F35: 3 | H35: 3
C36: 必ず上位からフルネームで記入すること！！

Sheet 市民総体要項
A1: =入力用!A3 -> 池田市体育連盟70周年記念 第74回市民総体
A3: 1. | B3: 日時 | C3: =VLOOKUP($A$1,入力用!A:D,2,0) -> 46180 | D3: ９時半 ～ 開会式
A5: 2. | B5: 場所 | C5: =VLOOKUP($A$1,入力用!A:D,3,0) -> 池田市総合スポーツセンター
C6: =VLOOKUP(C5,入力用!$A$16:$C$20,2,0) -> 〒563－0038 池田市荘園２丁目７－３０ （駐車場は有料です）
D7: =VLOOKUP(C5,入力用!$A$16:$C$20,3,0) -> ℡ 072－761－5137
C8: =VLOOKUP(C5,入力用!A:E,4,0) -> ＊体育館は８時半まで開場しません。
C9: =VLOOKUP(C5,入力用!A:E,5,0) -> 近隣から苦情がありますので早くから並ばないでください。
A11: 3. | B11: 参加資格 | C11: 池田市内在住又は池田市内に通勤・通学する者
A13: 4. | B13: 種目 | C13: ①一般男・女シングルス | D13: ②一般男・女ダブルス
C14: ③中学生男・女シングルス | D14: ④中学生男・女ダブルス
A16: 5. | B16: 試合方法 | C16: 予選リーグ戦後、各順位別トーナメントを行います。
A18: 6. | B18: 表彰 | C18: ①、②の決勝トーナメントで１～３位までに賞品を贈呈します。
C19: ③、④の決勝トーナメントで１～３位までは賞状を贈呈します。
C20: *参加者数によっては変更あり。
A22: 7. | B22: 参加料 | C22: シングルス…１人２００円 、ダブルス…１組４００円 ただし小・中学生は半額
C23: ＊一般と中学生の部は重複して出場できません。
A25: 8. | B25: 申込締切日 | C25: =VLOOKUP($A$1,入力用!A:E,5,0) -> 46165
A27: 9. | B27: 申込先 | C27: 〒563-0031 池田市天神１丁目１０－２６－Ｃ号
C28: =VLOOKUP($B$27,入力用!$A$20:$D$22,3,0) -> 井尻 アツ子方 池田市卓球協会宛て
C30: 総合スポーツセンターでの受付は行いませんので、
C31: 必ず郵送で記入漏れなく上記申込先へお申込ください。
A33: 10. | B33: 主催 | C33: 池田市教育委員会、池田市体育連盟
A35: 11. | B35: 主管 | C35: 池田市卓球協会
A37: 12. | B37: その他 | C37: ＊当日は、必ずゼッケンを着用してください。
C38: ＊本大会についてのお問い合わせは、
C39: ０９０－２２８４－９２６４（藤本）まで
C40: ＊本大会ではニッタクボールを使用します。
C41: ＊接着剤は日本卓球協会で承認されたものを使用してください。
B43: =入力用!A23 -> ＊駐車場に余裕がありませんので、できるだけ電車・バス等をご利用ください。
B44: =入力用!A24 -> ＊情勢によっては中止、内容の変更をいたします。
B45: =入力用!A25 -> ＊お願い：靴箱を利用せず、シューズ袋等に入れて、各自保管してください。

Sheet 市民総体要項申込一般
A1: =入力用!A3 -> 池田市体育連盟70周年記念 第74回市民総体
B3: 上記の大会に下記のとおり申し込みます。
B4: 本大会において生じた事故については、すべて個人の責任において
B5: 処理し、主催者側には一切迷惑をかけません。
C6: 団体名(個人名）
C7: 責 任 者 | D7: 〒
B8: 種目・男女別に丸印を 付けてください！ | D8: 住 所
D9: 氏 名
D10: ＴＥＬ
B11: 一般・中学 男子・女子
B12: （シングルス）
C13: 氏 名 | E13: 氏 名 | G13: 氏 名
B14: 1 | D14: 2 | F14: 3
B15: 4 | D15: 5 | F15: 6
B16: 7 | D16: 8 | F16: 9
B17: 10 | D17: 11 | F17: 12
C18: 必ず男女別に上位からフルネームで記入し 一般、中学いずれかに○印を！
C21: =A1 -> 池田市体育連盟70周年記念 第74回市民総体
B23: 上記の大会に下記のとおり申し込みます。
B24: 本大会において生じた事故については、すべて個人の責任において
B25: 処理し、主催者側には一切迷惑をかけません。
C26: 団体名(個人名）
C27: 責 任 者 | D27: 〒
B28: 種目・男女別に丸印を 付けてください！ | D28: 住 所
D29: 氏 名
D30: ＴＥＬ
B31: 一般・中学 男子・女子
B32: (ダブルス）
C33: 氏 名 | E33: 氏 名 | G33: 氏 名
B34: 1 | D34: 2 | F34: 3
B36: 4 | D36: 5 | F36: 6
C38: 必ず男女別に上位からフルネームで記入し 一般、中学いずれかに○印を！

Sheet カデット要項
A1: =入力用!A4 -> 第8回カデット池田オープン
A3: 1. | B3: 趣旨 | C3: この大会を通じて池田市の中学生選手が、他府県の選手との交流を通じて
C4: 技術を磨き、学ぶ場とする。
A6: 2. | B6: 主催 | C6: 池田市、池田市教育委員会
A8: 3. | B8: 主管 | C8: 池田市卓球協会
A10: 4. | B10: 後援 | C10: 池田市体育連盟
A12: 5. | B12: 日程 | C12: =VLOOKUP($A$1,入力用!$A$2:$C$13,2,0) -> 46257 | E12: 9時半から 開会式
A14: 6. | B14: 会場 | C14: =VLOOKUP($A$1,入力用!$A$2:$C$13,3,0) -> 池田市総合スポーツセンター
C15: =VLOOKUP(C14,入力用!$A$17:$C$21,2,0) -> 〒563－0038 池田市荘園２丁目７－３０ （駐車場は有料です）
E16: =VLOOKUP(C14,入力用!$A$17:$C$21,3,0) -> ℡ 072－761－5137
C17: =VLOOKUP(C14,入力用!A:E,4,0) -> ＊体育館は８時半まで開場しません。
C18: =VLOOKUP(C14,入力用!A:E,5,0) -> 近隣から苦情がありますので早くから並ばないでください。
A20: 7. | B20: 競技種目 | C20: 中学生団体戦（男子の部及び女子の部、小学生も参加できる）
A22: 8. | B22: 試合方法 | C22: ・４シングルス、１ダブルスで、３番にダブルスをおき６名でオーダーを組むこと。
C23: ・リーグ戦を基本とするが、参加チームが多数の場合は予選リーグを行い
C24: 決勝トーナメントにより順位を決定することもある。
C25: ＊大会中、一部のコートを使って講習会を行います。
C26: （大会参加者は受講できません。）
C27: 顧問の先生を含め奮ってご参加ください。
A29: 9. | B29: チーム編成 | C29: １チームを8名編成とする（補欠2人を含む）。
A31: 10. | B31: 参加資格 | C31: 中学生（小学生も参加できる）
A33: 11. | B33: 参加料 | C33: １チーム ３，０００円
A35: 12. | B35: 申込先 | C35: 別紙参加申込用紙に必要事項を記入し、下記宛に郵送してください。
C36: =VLOOKUP($B$35,入力用!A:D,2,0) -> 〒５６３－００３１ 池田市天神１丁目１０－２６－Ｃ号
C37: =VLOOKUP($B$35,入力用!A:D,3,0) -> 井尻 アツ子方 池田市卓球協会宛て
A39: 13. | B39: 申込締切日 | C39: =VLOOKUP($A$1,入力用!$A$2:$E$13,5,0) -> 46242
A41: 14. | B41: 表彰 | C41: 優勝チームに賞品と賞状を授与
C42: ２位、３位には賞状を授与
A44: 15. | B44: その他 | C44: ＊当日は、必ずゼッケンを着用してください。
C45: ＊本大会ではVICTASボールを使用します。
C46: ＊接着剤は日本卓球協会で承認されたものを使用してください。
C47: ＊日本卓球ルールに基づき白のウェアは着用できません。
C48: ＊参加する団体は、必ず引率者が同行してください。
C49: ＊本大会についてのお間い合わせは、池田市卓球協会
C50: 副理事長 藤本まで ℡090-2284-9264
C51: ＊宿泊、昼食の斡旋はいたしません。
B53: =入力用!A23 -> ＊駐車場に余裕がありませんので、できるだけ電車・バス等をご利用ください。
B54: =入力用!A24 -> ＊情勢によっては中止、内容の変更をいたします。
B55: =入力用!A25 -> ＊お願い：靴箱を利用せず、シューズ袋等に入れて、各自保管してください。

Sheet カデット申込書
A1: =入力用!A4 -> 第8回カデット池田オープン
A2: 上記の大会に下記のとおり申し込みます。
A3: 本大会において生じた事故については、すべて個人の責任において処理し、主催者側には一切迷惑をかけません。
C5: 団体名(チーム名）
C6: 責 任 者 | F6: 〒
F7: 住 所
F8: 氏 名
F9: ＴＥＬ
B10: 男子の部
C11: 選手名 | E11: 講習会参加希望者名
B12: 1 | E12: 1 | G12: 9
B13: 2 | E13: 2 | G13: 10
B14: 3 | E14: 3 | G14: 11
B15: 4 | E15: 4 | G15: 12
B16: 5 | E16: 5 | G16: 13
B17: 6 | E17: 6 | G17: 14
B18: 7 | E18: 7 | G18: 15
B19: 8 | E19: 8 | G19: 16
C20: 必ず上位からフルネームで記入すること！！
A23: =A1 -> 第8回カデット池田オープン
A24: 上記の大会に下記のとおり申し込みます。
A25: 本大会において生じた事故については、すべて個人の責任において処理し、主催者側には一切迷惑をかけません。
C27: 団体名(チーム名）
C28: 責 任 者 | F28: 〒
F29: 住 所
F30: 氏 名
F31: ＴＥＬ
B32: 女子の部
C33: 選手名 | E33: 講習会参加希望者名
B34: 1 | E34: 1 | G34: 9
B35: 2 | E35: 2 | G35: 10
B36: 3 | E36: 3 | G36: 11
B37: 4 | E37: 4 | G37: 12
B38: 5 | E38: 5 | G38: 13
B39: 6 | E39: 6 | G39: 14
B40: 7 | E40: 7 | G40: 15
B41: 8 | E41: 8 | G41: 16
C42: 必ず上位からフルネームで記入すること！！

Sheet なみはや国体ﾒﾓﾘｱﾙ要項
A1: =入力用!A5 -> 第29回なみはやメモリアル兼第51回市長杯
A3: 1. | B3: 趣旨 | C3: 「なみはや国体」を契機として、豊能地区の生涯スポーツの
C4: 発展と競技力の向上を図る。
A6: 2. | B6: 主催 | C6: 池田市、池田市教育委員会、池田市体育連盟
A8: 3. | B8: 主管 | C8: 池田市卓球協会
A10: 4. | B10: 日程 | C10: =VLOOKUP($A$1,入力用!$A$2:$C$13,2,0) -> 46285 | E10: ９時 ～ 開会式
A12: 5. | B12: 会場 | C12: =VLOOKUP($A$1,入力用!$A$2:$C$13,3,0) -> 池田市総合スポーツセンター
C13: =VLOOKUP(C12,入力用!$A$17:$C$21,2,0) -> 〒563－0038 池田市荘園２丁目７－３０ （駐車場は有料です）
E14: =VLOOKUP(C12,入力用!$A$17:$C$21,3,0) -> ℡ 072－761－5137
C15: =VLOOKUP(C12,入力用!A:E,4,0) -> ＊体育館は８時半まで開場しません。
C16: =VLOOKUP(C12,入力用!A:E,5,0) -> 近隣から苦情がありますので早くから並ばないでください。
A18: 6. | B18: 競技種目 | C18: 一般男女混合団体戦
A20: 7. | B20: 試合方法 | C20: ・２シングルス３ダブルスで、３点先取方式で勝敗を決する。
C21: ・予選リーグを行い、１位グループ・２位グループ・３位以下グループに
C22: 分かれて、決勝トーナメントを行う。
A24: 8. | B24: チーム編成 | C24: ◎ １チームを男２名、女２名で編成する。
C25: ・１番女子ダブルス、2番男子シングルス、3番ミックスダブルス
C26: 4番女子シングルス、5番男子ダブルスで、3番までに全員が出場し、
C27: 一人3回出場することはできない。
C28: ＊女子４名でも受付けます。
C29: 申込書男子の欄に氏名を書かれた方は、当日男子として出場してください。
A31: 9. | B31: 参加資格 | C31: 豊能地区のいずれかの卓球協会に加盟している者に限る。
A33: 10. | B33: 参加料 | C33: 大会参加料及び協会加盟金が必要(当日会場でお支払いください)
C34: ＊参加料 →１チーム ４，０００円
C35: ＊加盟金 → １人につき３００円
A37: 11. | B37: 申込先 | C37: 別紙参加申込用紙に必要事項を記入し、下記宛に郵送してください。
C38: =VLOOKUP($B$37,入力用!$A$21:$D$22,2,0) -> 〒５６３－００３１ 池田市天神１丁目１０－２６－Ｃ号
C39: =VLOOKUP($B$37,入力用!$A$21:$D$22,3,0) -> 井尻 アツ子方 池田市卓球協会宛て
A41: 12. | B41: 申込締切日 | C41: =VLOOKUP($A$1,入力用!$A$2:$E$13,5,0) -> 46270
A43: 13. | B43: その他 | C43: ＊当日は、必ずゼッケンを着用してください。
C44: ＊本大会ではニッタクボールを使用します。
C45: ＊接着剤は日本卓球協会で承認されたものを使用してください。
C46: ＊本大会についてのお間い合わせは、池田市卓球協会
C47: 副理事長 藤本まで ℡090-2284-9264
B49: =入力用!A23 -> ＊駐車場に余裕がありませんので、できるだけ電車・バス等をご利用ください。
B50: =入力用!A24 -> ＊情勢によっては中止、内容の変更をいたします。
B51: =入力用!A25 -> ＊お願い：靴箱を利用せず、シューズ袋等に入れて、各自保管してください。

Sheet なみはや国体ﾒﾓﾘｱﾙ申込一般
C1: =入力用!A5 -> 第29回なみはやメモリアル兼第51回市長杯
B4: 上記の大会に下記のとおり申し込みます。
B5: 本大会において生じた事故については、すべて個人の責任において
B6: 処理し、主催者側には一切迷惑をかけません。
C8: 団体名(チーム名）
C9: 責 任 者 | E9: 〒
E10: 住 所
E11: 氏 名
E12: ＴＥＬ
B14: (一般 男女混合団体戦）
C15: Ａ チーム | E15: Ｂ チーム | G15: Ｃ チーム | I15: Ｄ チーム
B16: 男 | D16: 男 | F16: 男 | H16: 男
B17: 男 | D17: 男 | F17: 男 | H17: 男
B18: 女 | D18: 女 | F18: 女 | H18: 女
B19: 女 | D19: 女 | F19: 女 | H19: 女
C20: Ｅ チーム | E20: Ｆ チーム | G20: Ｇ チーム | I20: Ｈ チーム
B21: 男 | D21: 男 | F21: 男 | H21: 男
B22: 男 | D22: 男 | F22: 男 | H22: 男
B23: 女 | D23: 女 | F23: 女 | H23: 女
B24: 女 | D24: 女 | F24: 女 | H24: 女
C25: Ｉ チーム | E25: Ｊ チーム | G25: Ｋ チーム | I25: Ｌ チーム
B26: 男 | D26: 男 | F26: 男 | H26: 男
B27: 男 | D27: 男 | F27: 男 | H27: 男
B28: 女 | D28: 女 | F28: 女 | H28: 女
B29: 女 | D29: 女 | F29: 女 | H29: 女
C30: 必ず上位からフルネームで記入すること！！

Sheet エイジロング要項
A1: =入力用!A6 -> 第35回エイジロング シングルス
A3: 1. | B3: 日時 | C3: =VLOOKUP($A$1,入力用!$A$2:$C$13,2,0) -> 46320 | E3: ９時 ～ 開会式
A5: 2. | B5: 場所 | C5: =VLOOKUP($A$1,入力用!$A$2:$C$13,3,0) -> 池田市総合スポーツセンター
C6: =VLOOKUP(C5,入力用!$A$17:$C$21,2,0) -> 〒563－0038 池田市荘園２丁目７－３０ （駐車場は有料です）
D7: =VLOOKUP(C5,入力用!$A$17:$C$21,3,0) -> ℡ 072－761－5137
C8: =VLOOKUP(C5,入力用!A:E,4,0) -> ＊体育館は８時半まで開場しません。
C9: =VLOOKUP(C5,入力用!A:E,5,0) -> 近隣から苦情がありますので早くから並ばないでください。
A11: 3. | B11: 参加資格 | C11: 池田市卓球協会加盟者に限る
C12: （試合当日でも加盟手続は行えます ３００円／１人）
A14: 4. | B14: 種目 | C14: シングルス男・女
C15: ＊ フリー（年齢制限なし） ＊４５～５４歳 ＊５５～６４歳
C16: ＊ ６５～７４歳 ＊７５歳 以上
C17: ダブルス男・女（ペアの合計年齢）
C18: ＊～９０歳 ＊９１～１２０歳 ＊１２１歳以上
C19: (いずれも大会当日)
C20: 各種目において参加人数が５名以下となったときには
C21: 各々１ランク下の年齢層と合せて行います。
C22: （対象となる年齢層より下の年齢層でも出場できます）
A24: 5. | B24: 試合方法 | C24: 原則として、予選リーグ戦を行いその後に順位別グループの
C25: トーナメントを行います。
A27: 6. | B27: 表彰 | C27: 各種目とも１～３位まで賞品贈呈
C28: ※参加人数によっては、3位決定戦有り
A30: 7. | B30: 参加料 | C30: 参加料･･･1人につき １，０００円
C31: ダブルス・・・一組につき １，６００円
C32: ＊加盟金 → １人につき３００円
C33: （参加料は当日会場受付でお支払いください。）
A35: 8. | B35: 申込締切日 | C35: =VLOOKUP($A$1,入力用!$A$2:$E$13,5,0) -> 46305
A37: 9. | B37: 申込先 | C37: =VLOOKUP($B$37,入力用!$A$21:$D$22,2,0) -> 〒５６３－００３１ 池田市天神１丁目１０－２６－Ｃ号
C38: =VLOOKUP($B$37,入力用!$A$21:$D$22,3,0) -> 井尻 アツ子方 池田市卓球協会宛て
C40: 総合スポーツセンターでの受付は行いませんので、
C41: 必ず郵送で記入漏れなく上記申込先へお申込ください。
A43: 10. | B43: 主催 | C43: 池田市卓球協会
A45: 11. | B45: その他 | C45: ＊当日は、必ずゼッケンを着用してください。
C46: ＊本大会についてのお問い合わせは、
C47: ０９０－２２８４－９２６４（藤本）まで
C48: ＊本大会ではニッタクボールを使用します。
C49: ＊接着剤は日本卓球協会で承認されたものを使用してください。
B51: =入力用!A23 -> ＊駐車場に余裕がありませんので、できるだけ電車・バス等をご利用ください。
B52: =入力用!A24 -> ＊情勢によっては中止、内容の変更をいたします。
B53: =入力用!A25 -> ＊お願い：靴箱を利用せず、シューズ袋等に入れて、各自保管してください。
...

Sheet エイジロング申込男女
A1: =入力用!A6 -> 第35回エイジロング シングルス | I1: =A1 -> 第35回エイジロング シングルス
B3: 上記の大会に下記のとおり申し込みます。 | K3: 上記の大会に下記のとおり申し込みます。
B4: 本大会において生じた事故については、すべて個人の責任において | K4: 本大会において生じた事故については、すべて個人の責任において
B5: 処理し、主催者側には一切迷惑をかけません。 | K5: 処理し、主催者側には一切迷惑をかけません。
C6: 団体名(個人名） | L6: 団体名(個人名）
C7: 責 任 者 | D7: 〒 | L7: 責 任 者 | M7: 〒
D8: 住 所 | M8: 住 所
D9: 氏 名 | M9: 氏 名
D10: ＴＥＬ | M10: ＴＥＬ
B12: (男子・女子 フリーの部） | F12: 団体名…（ ） | J12: (男子・女子 ダブルス 二人合わせて～９0歳） | O12: 団体名…（ ）
C13: 氏 名 | E13: 氏 名 | G13: 氏 名 | L13: 氏 名 | N13: 氏 名 | P13: 氏 名
B14: 1 | D14: 2 | F14: 3 | K14: 1 | M14: 2 | O14: 3
B15: 4 | D15: 5 | F15: 6
B16: 7 | D16: 8 | F16: 9 | K16: 4 | M16: 5 | O16: 6
B18: (男子・女子 ４５～５４歳の部） | F18: 団体名…（ ） | K18: 7 | M18: 8 | O18: 9
C19: 氏 名 | E19: 氏 名 | G19: 氏 名
B20: 1 | D20: 2 | F20: 3 | N20: 必ず上位から記入すること！！
B21: 4 | D21: 5 | F21: 6
B22: 7 | D22: 8 | F22: 9 | J22: (男子・女子 ダブルス 二人合わせて９１～1２０歳） | O22: 団体名…（ ）
L23: 氏 名 | N23: 氏 名 | P23: 氏 名
B24: (男子・女子 ５５～６４歳の部） | F24: 団体名…（ ） | K24: 1 | M24: 2 | O24: 3
C25: 氏 名 | E25: 氏 名 | G25: 氏 名
B26: 1 | D26: 2 | F26: 3 | K26: 4 | M26: 5 | O26: 6
B27: 4 | D27: 5 | F27: 6
B28: 7 | D28: 8 | F28: 9 | K28: 7 | M28: 8 | O28: 9
B30: (男子・女子 ６５～７４歳以上の部） | F30: 団体名…（ ） | N30: 必ず上位から記入すること！！
C31: 氏 名 | E31: 氏 名 | G31: 氏 名
B32: 1 | D32: 2 | F32: 3 | J32: (男子・女子 ダブルス 二人合わせて1２１歳以上） | O32: 団体名…（ ）
B33: 4 | D33: 5 | F33: 6 | L33: 氏 名 | N33: 氏 名 | P33: 氏 名
B34: 7 | D34: 8 | F34: 9 | K34: 1 | M34: 2 | O34: 3
B36: (男子・女子 ７５歳以上の部） | F36: 団体名…（ ） | K36: 4 | M36: 5 | O36: 6
C37: 氏 名 | E37: 氏 名 | G37: 氏 名
B38: 1 | D38: 2 | F38: 3 | K38: 7 | M38: 8 | O38: 9
B39: 4 | D39: 5 | F39: 6
B40: 7 | D40: 8 | F40: 9 | N40: 必ず上位から記入すること！！
C41: 必ず上位からフルネームで記入すること！！
C42: *団体名の記入と男女のいずれかに○印をしてください！！ | L42: *団体名の記入と男女の種目いずれかに○印をしてください！！

Sheet マスターズ要項
A1: =入力用!A7 -> ヤサカ杯 第9回池田マスターズ
A3: 1. | B3: 日時 | C3: =VLOOKUP($A$1,入力用!$A$2:$C$13,2,0) -> 46344 | E3: ９時30分 ～ 開会式
A5: 2. | B5: 場所 | C5: =VLOOKUP($A$1,入力用!$A$2:$C$13,3,0) -> 池田市総合スポーツセンター
C6: =VLOOKUP(C5,入力用!$A$17:$C$21,2,0) -> 〒563－0038 池田市荘園２丁目７－３０ （駐車場は有料です）
E7: =VLOOKUP(C5,入力用!$A$17:$C$21,3,0) -> ℡ 072－761－5137
C8: =VLOOKUP(C5,入力用!A:E,4,0) -> ＊体育館は８時半まで開場しません。
C9: =VLOOKUP(C5,入力用!A:E,5,0) -> 近隣から苦情がありますので早くから並ばないでください。
A11: 3. | B11: 参加資格 | C11: 当日、満６５歳以上であること
A13: 4. | B13: 種目 | C13: ３名による ３ダブルス団体戦 | E13: ＊経験者と初心者のクラス別とします。
A15: 5. | B15: 試合方法 | C15: ６５歳以上３名の選手でチームを編成し、３ダブルスの団体戦を行います。
C16: ☆男子のみ、女子のみ、男女混合を問いません。
C17: 当日抽選にて組み合わせを決定します。
C18: １番、２番、３番ですべて異なるペアでオーダーを組んでください。
C19: ＊ 原則として、予選リーグ戦を行い、その後順位別トーナメントを行います。
C20: ＊ 先着60チームまでとします。
A22: 6. | B22: 表彰 | C22: 各種目とも１～３位まで賞品贈呈 （参加数により変更有り）
A24: 7. | B24: 参加料 | C24: ＊参加料 →１チーム ３，０００円
C25: ＊加盟金 → 不要
A27: 8. | B27: 申込締切日 | C27: =VLOOKUP($A$1,入力用!$A$2:$E$13,5,0) -> 46329
A29: 9. | B29: 申込先 | C29: =VLOOKUP($B$29,入力用!A:D,2,0) -> 〒５６３－００３１ 池田市天神１丁目１０－２６－Ｃ号
C30: =VLOOKUP($B$29,入力用!A:D,3,0) -> 井尻 アツ子方 池田市卓球協会宛て
A32: 10. | B32: 主催 | C32: 池田市、池田市教育委員会
A34: 11. | B34: 主管 | C34: 池田市卓球協会
A36: 12. | B36: 後援 | C36: 池田市体育連盟
A38: 13. | B38: その他 | C38: ＊当日は、必ずゼッケンを着用してください。
C39: ＊本大会についてのお問い合わせは、
C40: ０９０－２２８４－９２６４（藤本）まで
C41: ＊本大会ではヤサカのボールを使用します。
C42: ＊接着剤は日本卓球協会で承認されたものを使用してください。
C43: ＊ 賞品の数は1チーム３名分といたします。
C44: （参加選手の登録は１チームあたり３名とします）
B46: =入力用!A23 -> ＊駐車場に余裕がありませんので、できるだけ電車・バス等をご利用ください。
B47: =入力用!A24 -> ＊情勢によっては中止、内容の変更をいたします。
B48: =入力用!A25 -> ＊お願い：靴箱を利用せず、シューズ袋等に入れて、各自保管してください。

Sheet ﾏｽﾀｰｽﾞ申込
B1: =入力用!A7 -> ヤサカ杯 第9回池田マスターズ
C3: 上記の大会に下記のとおり申し込みます。
C4: 本大会において生じた事故については、すべて個人の責任において処理し、
C5: 主催者側には一切迷惑をかけません。
C6: 団体名(チーム名）
C7: 責 任 者 | D7: 〒
D8: 住 所
D9: 氏 名
D10: ＴＥＬ
B11: 大会参加者（経験者）
C12: Ａ チーム | E12: Ｂ チーム | G12: Ｃ チーム
B13: 1 | D13: 1 | F13: 1
B14: 2 | D14: 2 | F14: 2
B15: 3 | D15: 3 | F15: 3
B17: 大会参加者（初心者）
C18: Ａ チーム | E18: Ｂ チーム | G18: Ｃ チーム
B19: 1 | D19: 1 | F19: 1
B20: 2 | D20: 2 | F20: 2
B21: 3 | D21: 3 | F21: 3
C24: 必ずフルネームで記入すること！！

Sheet ミックスダブルス要項
A1: =入力用!A8 -> 第27回ミックスダブルス
A3: 1. | B3: 日時 | C3: =VLOOKUP($A$1,入力用!$A$2:$C$13,2,0) -> 46404 | D3: ９時 ～ 開会式
A5: 2. | B5: 場所 | C5: =VLOOKUP($A$1,入力用!$A$2:$C$13,3,0) -> 池田市総合スポーツセンター
C6: =VLOOKUP(C5,入力用!$A$17:$C$21,2,0) -> 〒563－0038 池田市荘園２丁目７－３０ （駐車場は有料です）
D7: =VLOOKUP(C5,入力用!$A$17:$C$21,3,0) -> ℡ 072－761－5137
C8: =VLOOKUP($C$5,入力用!A:E,4,0) -> ＊体育館は８時半まで開場しません。
C9: =VLOOKUP($C$5,入力用!A:E,5,0) -> 近隣から苦情がありますので早くから並ばないでください。
A11: 3. | B11: 参加資格 | C11: 池田市卓球協会加盟者に限る （当日 加入可 加盟金１名３００円）
A13: 4. | B13: 種目 | C13: =VLOOKUP($A$1,入力用!$A$2:$D$13,4,0) -> ミックスダブルスによる団体戦
A15: 5. | B15: 試合方法 | C15: 男子２名、女子２名により１チームを構成し、ミックスダブルスを
C16: ３試合行います。
C17: １番…男女ペア、２番…１番に出場したもの以外の男女ペア
C18: ３番…１・２番の組み合わせ以外の男女ペア
C19: （男とは、男子または男子の代わりに登録した女子のことです）
C20: 原則として、まず３～４チームによる予選リーグ戦を行い、その結果により
C21: １～４位までそれぞれ順位グループ別にトーナメント戦を行います。
A23: 6. | B23: 表彰 | C23: 各グループともに１位～３位まで賞品贈呈（参加数により変更有り）
A25: 7. | B25: 参加料 | C25: 大会参加料及び協会加盟金が必要(当日会場でお支払いください)
C26: ＊参加料 →１チーム ４，０００円
C27: ＊加盟金 → １人につき３００円
A29: 8. | B29: 申込締切日 | C29: =VLOOKUP($A$1,入力用!$A$2:$E$13,5,0) -> 46389
A31: 9. | B31: 申込先 | C31: =VLOOKUP($B$31,入力用!A:D,2,0) -> 〒５６３－００３１ 池田市天神１丁目１０－２６－Ｃ号
C32: =VLOOKUP($B$31,入力用!A:D,3,0) -> 井尻 アツ子方 池田市卓球協会宛て
C34: 総合スポーツセンターでの受付は行いませんので、
C35: 必ず郵送で記入漏れなく上記申込先へお申込ください。
A37: 10. | B37: 主催 | C37: 池田市卓球協会
A39: 11. | B39: その他 | C39: ＊当日は、必ずゼッケンを着用してください。
C40: ＊本大会についてのお問い合わせは、
C41: ０９０－２２８４－９２６４（藤本）まで
C42: ＊本大会ではニッタクボールを使用します。
C43: ＊接着剤は日本卓球協会で承認されたものを使用してください。
C44: ＊ 賞品の数は1チーム４名分といたします。
C45: （参加選手の登録は１チームあたり４名とします）
B47: =入力用!A23 -> ＊駐車場に余裕がありませんので、できるだけ電車・バス等をご利用ください。
B48: =入力用!A24 -> ＊情勢によっては中止、内容の変更をいたします。
B49: =入力用!A25 -> ＊お願い：靴箱を利用せず、シューズ袋等に入れて、各自保管してください。

Sheet ミックスダブルス申込
B1: =入力用!A8 -> 第27回ミックスダブルス
B3: 上記の大会に下記のとおり申し込みます。
B4: 本大会において生じた事故については、すべて個人の責任において処理し、
B5: 主催者側には一切迷惑をかけません。
C6: 団体名(チーム名）
C7: 責 任 者 | D7: 氏 名
D8: 〒 住 所
D9: ＴＥＬ
C11: Ａ チーム | E11: Ｂ チーム | G11: Ｃ チーム
B12: 男1 (女） | D12: 男1 (女） | F12: 男1 (女）
B13: 男2 (女) | D13: 男2 (女) | F13: 男2 (女)
B14: 女１ | D14: 女１ | F14: 女１
B15: 女2 | D15: 女2 | F15: 女2
C17: D チーム | E17: E チーム | G17: F チーム
B18: 男1 (女） | D18: 男1 (女） | F18: 男1 (女）
B19: 男2 (女) | D19: 男2 (女) | F19: 男2 (女)
B20: 女１ | D20: 女１ | F20: 女１
B21: 女2 | D21: 女2 | F21: 女2
B23: 必ずABCの順で、上位チームからフルネームで記入すること！！

Sheet 二人団体戦要項
A1: =入力用!A9 -> 第17回池田二人団体
A3: 1. | B3: 日時 | C3: =VLOOKUP($A$1,入力用!$A$2:$C$13,2,0) -> 46439 | D3: ９時 ～ 開会式
A5: 2. | B5: 場所 | C5: =VLOOKUP($A$1,入力用!$A$2:$C$13,3,0) -> 池田市総合スポーツセンター
C6: =VLOOKUP(C5,入力用!$A$17:$C$21,2,0) -> 〒563－0038 池田市荘園２丁目７－３０ （駐車場は有料です）
D7: =VLOOKUP(C5,入力用!$A$17:$C$21,3,0) -> ℡ 072－761－5137
C8: =VLOOKUP($C$5,入力用!A:E,4,0) -> ＊体育館は８時半まで開場しません。
C9: =VLOOKUP($C$5,入力用!A:E,5,0) -> 近隣から苦情がありますので早くから並ばないでください。
A11: 3. | B11: 参加資格 | C11: 池田市卓球協会加盟者に限る （当日 加入可 加盟金１名３００円）
A13: 4. | B13: 種目 | C13: =VLOOKUP($A$1,入力用!$A$2:$D$13,4,0) -> 一般男子団体戦、一般女子団体戦（男女とも1チームは2名で構成）
A15: 5. | B15: 試合方法 | C15: 1番ダブルス、２番シングルス、３番シングルスの２点先取
C16: （予選リーグ、順位別の決勝トーナメントを実施）
A18: 6. | B18: 表彰 | C18: 各グループともに１～３位まで賞品贈呈 （参加数により変更有り）
A20: 7. | B20: 参加料 | C20: 大会参加料及び協会加盟金が必要(当日会場でお支払いください)
C21: ＊参加料 →１チーム ２，０００円
C22: ＊加盟金 → １人につき３００円
A24: 8. | B24: 申込締切日 | C24: =VLOOKUP($A$1,入力用!$A$2:$E$13,5,0) -> 46424
A26: 9. | B26: 申込先 | C26: =VLOOKUP($B$26,入力用!A:D,2,0) -> 〒５６３－００３１ 池田市天神１丁目１０－２６－Ｃ号
C27: =VLOOKUP($B$26,入力用!A:D,3,0) -> 井尻 アツ子方 池田市卓球協会宛て
C29: 総合スポーツセンターでの受付は行いませんので、
C30: 必ず郵送で記入漏れなく上記申込先へお申込ください。
A32: 10. | B32: 主催 | C32: 池田市卓球協会
A34: 11. | B34: その他 | C34: ＊当日は、必ずゼッケンを着用してください。
C35: ＊本大会についてのお問い合わせは、
C36: ０９０－２２８４－９２６４（藤本）まで
C37: ＊本大会ではニッタクボールを使用します。
C38: ＊接着剤は日本卓球協会で承認されたものを使用してください。
C39: ＊ 賞品の数は1チーム２名分といたします。
C40: （参加選手の登録は１チームあたり２名とします）
B42: =入力用!A23 -> ＊駐車場に余裕がありませんので、できるだけ電車・バス等をご利用ください。
B43: =入力用!A24 -> ＊情勢によっては中止、内容の変更をいたします。
B44: =入力用!A25 -> ＊お願い：靴箱を利用せず、シューズ袋等に入れて、各自保管してください。

Sheet 二人団体戦申込
A1: =入力用!A9 -> 第17回池田二人団体
B3: 上記の大会に下記のとおり申し込みます。
B4: 大会において生じた事故については、すべて個人の責任において処理し、主催者側には
B5: 一切迷惑をかけません。
C6: 団体名(チーム名）
C7: 責 任 者 | D7: 〒 住 所
D8: 氏 名
D9: ＴＥＬ
B10: 一般男子の部
C11: Ａ チーム | E11: Ｂ チーム | G11: Ｃ チーム | I11: D チーム
B12: 1 | D12: 1 | F12: 1 | H12: 1
B13: 2 | D13: 2 | F13: 2 | H13: 2
B14: 必ずABCDの順で、上位チームからフルネームで記入すること！！
C17: 団体名(チーム名）
C18: 責 任 者 | D18: 〒 住 所
D19: 氏 名
D20: ＴＥＬ
B21: 一般女子の部
C22: Ａ チーム | E22: Ｂ チーム | G22: Ｃ チーム | I22: D チーム
B23: 1 | D23: 1 | F23: 1 | H23: 1
B24: 2 | D24: 2 | F24: 2 | H24: 2
B26: 必ずABCDの順で、上位チームからフルネームで記入すること！！
